BEGIN:VCALENDAR
VERSION:2.0
PRODID:-//Edmark-Distributor - Team-Canada - ECPv6.15.20//NONSGML v1.0//EN
CALSCALE:GREGORIAN
METHOD:PUBLISH
X-WR-CALNAME:Edmark-Distributor - Team-Canada
X-ORIGINAL-URL:https://edmarker.ca
X-WR-CALDESC:Events for Edmark-Distributor - Team-Canada
REFRESH-INTERVAL;VALUE=DURATION:PT1H
X-Robots-Tag:noindex
X-PUBLISHED-TTL:PT1H
BEGIN:VTIMEZONE
TZID:America/Toronto
BEGIN:DAYLIGHT
TZOFFSETFROM:-0500
TZOFFSETTO:-0400
TZNAME:EDT
DTSTART:20240310T070000
END:DAYLIGHT
BEGIN:STANDARD
TZOFFSETFROM:-0400
TZOFFSETTO:-0500
TZNAME:EST
DTSTART:20241103T060000
END:STANDARD
BEGIN:DAYLIGHT
TZOFFSETFROM:-0500
TZOFFSETTO:-0400
TZNAME:EDT
DTSTART:20250309T070000
END:DAYLIGHT
BEGIN:STANDARD
TZOFFSETFROM:-0400
TZOFFSETTO:-0500
TZNAME:EST
DTSTART:20251102T060000
END:STANDARD
BEGIN:DAYLIGHT
TZOFFSETFROM:-0500
TZOFFSETTO:-0400
TZNAME:EDT
DTSTART:20260308T070000
END:DAYLIGHT
BEGIN:STANDARD
TZOFFSETFROM:-0400
TZOFFSETTO:-0500
TZNAME:EST
DTSTART:20261101T060000
END:STANDARD
END:VTIMEZONE
BEGIN:VEVENT
DTSTART;TZID=America/Toronto:20250607T120000
DTEND;TZID=America/Toronto:20250607T180000
DTSTAMP:20260421T181401
CREATED:20250406T170739Z
LAST-MODIFIED:20250409T013700Z
UID:11373-1749297600-1749319200@edmarker.ca
SUMMARY:Gala EDNARK Canada 2025 1st EDITION
DESCRIPTION:Meet the founder of EDMARK\nMR SAM LOW\n \n \n3 meals and 4 meals service available.\n\nComplimentary edmark coffee break service\nPhoto service\nProfessional and video robot rental.\nUniform edmark bag and samples with bic and notebook for taking notes\nDJ and guest artist until 10pm.\n\n Uniform system required.\n\nMale. Black jacket\, white shirt and red tie. \nWoman black or light blue jacket\, shirt or red top inside.\n\n \n 
URL:https://edmarker.ca/event/gala-ednark-canada-2025-1st-edition/
LOCATION:Holiday Inn Longueuil\, 900 Rue Saint-Charles E\, Longueuil\, QC\, J4H 3Y2\, Canada
CATEGORIES:Conference,Gala
ATTACH;FMTTYPE=image/jpeg:https://edmarker.ca/wp-content/uploads/2025/04/Capture-MR-Sam-Low.jpg
ORGANIZER;CN="Edmark Team Canada":MAILTO:edmark@edmaker.ca
END:VEVENT
END:VCALENDAR